BEGIN:VCALENDAR
VERSION:2.0
PRODID:-//https://www.traditionresort.com//NONSGML kigkonsult.se iCalcreator 2.41.71//
CALSCALE:GREGORIAN
METHOD:PUBLISH
UID:34626339-6335-4936-b233-306130616333
X-WR-CALNAME:JCal Pro Calendar
X-WR-CALDESC:Your online events calendar
X-WR-TIMEZONE:Pacific/Apia
BEGIN:VTIMEZONE
TZID:Pacific/Apia
BEGIN:STANDARD
TZNAME:+13
DTSTART:20240718T140748
TZOFFSETFROM:+0000
TZOFFSETTO:+1300
END:STANDARD
END:VTIMEZONE
BEGIN:VEVENT
UID:20230622T190000UTC-2899hVgTCC@https://traditionresort.com/
DTSTAMP:20260419T140748Z
CATEGORIES:Cultural Shows at Tradition Resort
DTSTART;TZID=Pacific/Apia:20230622T190000
DTEND;TZID=Pacific/Apia:20230622T220000
RRULE:FREQ=WEEKLY;COUNT=30;INTERVAL=1;BYDAY=TH
SUMMARY:Fiafianite Cultural Show
URL:https://www.traditionresort.com/index.php/fiafianite-cultural-show/10-c
 ultural-shows-at-tradition-resort/770-fiafianite-cultural-show
END:VEVENT
END:VCALENDAR
